BEGIN:VCALENDAR
VERSION:2.0
PRODID:-//The Sanford House Inn &amp; Spa | Luxury Boutique Hotel, Classic Fine Dining, and Full Service Spa in Arlington, TX - ECPv6.10.2//NONSGML v1.0//EN
CALSCALE:GREGORIAN
METHOD:PUBLISH
X-WR-CALNAME:The Sanford House Inn &amp; Spa | Luxury Boutique Hotel, Classic Fine Dining, and Full Service Spa in Arlington, TX
X-ORIGINAL-URL:https://www.thesanfordhouse.com
X-WR-CALDESC:Events for The Sanford House Inn &amp; Spa | Luxury Boutique Hotel, Classic Fine Dining, and Full Service Spa in Arlington, TX
REFRESH-INTERVAL;VALUE=DURATION:PT1H
X-Robots-Tag:noindex
X-PUBLISHED-TTL:PT1H
BEGIN:VTIMEZONE
TZID:America/Chicago
BEGIN:DAYLIGHT
TZOFFSETFROM:-0600
TZOFFSETTO:-0500
TZNAME:CDT
DTSTART:20250309T080000
END:DAYLIGHT
BEGIN:STANDARD
TZOFFSETFROM:-0500
TZOFFSETTO:-0600
TZNAME:CST
DTSTART:20251102T070000
END:STANDARD
BEGIN:DAYLIGHT
TZOFFSETFROM:-0600
TZOFFSETTO:-0500
TZNAME:CDT
DTSTART:20260308T080000
END:DAYLIGHT
BEGIN:STANDARD
TZOFFSETFROM:-0500
TZOFFSETTO:-0600
TZNAME:CST
DTSTART:20261101T070000
END:STANDARD
END:VTIMEZONE
BEGIN:VEVENT
DTSTART;TZID=America/Chicago:20251121T190000
DTEND;TZID=America/Chicago:20251121T210000
DTSTAMP:20260420T110224
CREATED:20251027T195503Z
LAST-MODIFIED:20251027T195648Z
UID:4780-1763751600-1763758800@www.thesanfordhouse.com
SUMMARY:Sanford Spotlight Live Music - November 21st\, 2025
DESCRIPTION:Friday\, November 21st\, 2025\nfrom 7-9 pm\nMarcus Rockwell Trio’s \nBuy Tickets Here\nopen seating: first come first serve\ncash bar + food available for purchase \nJoin us in the restaurant and bar beforehand for dinner or enjoy our Spotlight Courtyard Menu available during the show!
URL:https://www.thesanfordhouse.com/event/sanford-spotlight-live-music-november-21st-2025/
LOCATION:Restaurant506 at the Sanford House\, 506 N Center St\, Arlington\, TX\, 76011
END:VEVENT
BEGIN:VEVENT
DTSTART;TZID=America/Chicago:20251214T130000
DTEND;TZID=America/Chicago:20251214T160000
DTSTAMP:20260420T110224
CREATED:20251206T221455Z
LAST-MODIFIED:20251206T222027Z
UID:4821-1765717200-1765728000@www.thesanfordhouse.com
SUMMARY:Santa & Hot Choclate!
DESCRIPTION:Sunday\, Dec. 14 from 1-3pm\, come enjoy a visit with Santa on our spectacularly-decorated grounds\, take photos around the property\, and have a hot chocolate. \n\n\nThis is a free community event\, and we will be accepting donations of clean towels\, dry dog & cat food\, and more for the Arlington Animal Shelter!\n\n  \nAmazon Wish List \nLet Us Know Your Coming! \n 
URL:https://www.thesanfordhouse.com/event/santa-hot-choclate/
LOCATION:Restaurant506 at the Sanford House\, 506 N Center St\, Arlington\, TX\, 76011
END:VEVENT
BEGIN:VEVENT
DTSTART;TZID=America/Chicago:20251220T100000
DTEND;TZID=America/Chicago:20251220T120000
DTSTAMP:20260420T110224
CREATED:20251112T212651Z
LAST-MODIFIED:20251112T212655Z
UID:4799-1766224800-1766232000@www.thesanfordhouse.com
SUMMARY:Brunch & Yoga at the Sanford House
DESCRIPTION:Join Arlington Yoga Center\, The Sanford House Inn & Spa\, and Restaurant506 for a morning that promises to feel and taste good! \nAbout the event\n\n\n\nCome enjoy an outdoor practice in the lush and green Grand Courtyard of the Sanford House Inn located in historic Downtown Arlington. We’ll start with an all-levels\, outdoor practice followed by delicious brunch noms from Restaurant506. Your ticket includes an hour of yoga\, a free mimosa\, and 10% off brunch at the Sanford House. While enjoying your mimosa\, feel free to stay and explore the courtyard\, dine at the in-house restaurant\, or continue your self-care with a trip to the Sanford Spa and Salon across the street.  \nBYOM (Bring your own mat) and water\nBe sure to call in for a reservation at Restaurant 506 to ensure a table right after Yoga! \nLimited number of tickets so pre-registration IS required!\nIn instances of class cancellation\, AYC will honor all tickets and attendees at another class of their choosing. \n\n\n\n			\n				Get Tickets Here
URL:https://www.thesanfordhouse.com/event/brunch-yoga-at-the-sanford-house-2/
LOCATION:Restaurant506 at the Sanford House\, 506 N Center St\, Arlington\, TX\, 76011
END:VEVENT
BEGIN:VEVENT
DTSTART;TZID=America/Chicago:20260227T180000
DTEND;TZID=America/Chicago:20260227T210000
DTSTAMP:20260420T110224
CREATED:20260210T160146Z
LAST-MODIFIED:20260210T160146Z
UID:4850-1772215200-1772226000@www.thesanfordhouse.com
SUMMARY:Artists & Chefs at The Sanford House - Friday\, February 27th
DESCRIPTION:Friday\, February 27th\nFrom 6 – 9 pm\nEnjoy amazing tablescapes and an exquisite five course menu crafted by the culinary team of Restaurant506 at The Sanford House with wines from Serendipity Wines. \nWe pair local artists and chefs to build the tablescape and prepare the menu. Sit back\, relax\, and enjoy the evening. It’s the perfect way to relish an unforgettable dinner party at an incomparable venue! \n\nAbout Artists and Chefs: Sanford House — Artists and Chefs \nMenu For the Evening\n\nRECEPTION \nPassed Hors d’oeuvres \nNopales and Roasted Corn Fritters \ncrispy southwest cactus and sweet corn fritters with a smoky poblano cream \nPaired with 2023 Herencia White Blend \n\nGulf Shrimp Ceviche Shooter \ntraditional mexican shrimp cocktail with fresh avocado and corn chips \nPaired with 2022 Henri Lurton Sauvignon Blanc \n\nAPPETIZER \nCrispy Duck Street Tacos \ncrispy duck confit\, spiced plum glaze\, pickled vegetable slaw \nPaired with 2023 Canto de Luna \n\nPalate Cleanser \nTropical Chili Guava Sorbet \nHouse made chili guava sorbet\, tajin dusting \n\nENTREE \nRoasted Garlic Mojo Pork Tenderloin \nroasted garlic infused pork tenderloin\, parmesan polenta cake\, sauteed baby carrots\, \ncaramelized shallot cream \nPaired with 2019 Valle de Guadalupe Tempranillo \nor \nChili Verde Adobo Grouper \nadobo verde marinated grouper\, cilantro lime rice\, crisp french beans\, \ncharred pineapple salsa \nPaired with Vinaltura Chenin Blanc \n\nDESSERT \nAbuelitas Chocolate Crème Brulee \nrich silky crème brulee made with “abuelitas chocolate”\, mixed berry compote \nPaired with NV El Bajio Brut
URL:https://www.thesanfordhouse.com/event/artists-chefs-at-the-sanford-house-friday-february-27th/
LOCATION:Restaurant506 at the Sanford House\, 506 N Center St\, Arlington\, TX\, 76011
END:VEVENT
BEGIN:VEVENT
DTSTART;TZID=America/Chicago:20260424T190000
DTEND;TZID=America/Chicago:20260424T210000
DTSTAMP:20260420T110224
CREATED:20260212T192451Z
LAST-MODIFIED:20260318T212918Z
UID:4855-1777057200-1777064400@www.thesanfordhouse.com
SUMMARY:Sanford Spotlight Live Music - April 24th\, 2026
DESCRIPTION:Friday\, April 24th\, 2026\nfrom 7-9 pm\nMarcus Rockwell Trio\nopen seating: first come first serve\ncash bar + food available for purchase \nJoin us in the restaurant and bar beforehand for dinner or enjoy our Spotlight Courtyard Menu available during the show!
URL:https://www.thesanfordhouse.com/event/sanford-spotlight-live-music-april-24th-2026/
LOCATION:Restaurant506 at the Sanford House\, 506 N Center St\, Arlington\, TX\, 76011
END:VEVENT
BEGIN:VEVENT
DTSTART;TZID=America/Chicago:20260505T180000
DTEND;TZID=America/Chicago:20260505T180000
DTSTAMP:20260420T110224
CREATED:20260414T183203Z
LAST-MODIFIED:20260414T183936Z
UID:4879-1778004000-1778004000@www.thesanfordhouse.com
SUMMARY:Rewa Wine Dinner
DESCRIPTION:Tuesday\, May 5th \n6-6:30pm –Welcome Reception\n6:30pm – Dinner \n$150 per person – Buy Tickets Here\nIncludes tax and gratuity \nFeaturing presentations from owner Sumer Sareen and winemaker Jess McDowell. Rewa Vineyards is an expression of some of the best wine coming from Napa Valley\, coming from the southern subregion Coombsville AVA. This interactive tasting experience will take you through the vintage comparisons as well as a very special food pairing highlighting the Sareen family’s Indian heritage. A truly unique and personal experience to transport and delight. \nMenu \n1st Course \nDuo Plate of Shrimp Kachumber and Butter Chicken – slow cooked frenched chicken leg\, garlic naan tuille\nPaired with\n2023 Sauvignon Blanc\n2024 Sauvignon Blanc \n2nd Course \nCardamon Dusted Crab Cakes with red pepper raita\nPaired with\n2021 Khanda Cabernet Sauvignon \n3rd Course \nTandoori Salmon – perfectly cooked spiced salmon\, charred baby bok choy\nPaired with\n2022 Khanda Red Wine \n4th Course \nSmoked Kashmiri Rack of Lamb – pecan smoked lamb with buttered black lentils\nPaired with\n2017 Rewa Cabernet Sauvignon\n2022 Rewa Cabernet Sauvignon \n5th Course \nEspresso Mint Chocolate Torte – bold espresso and subtle mint notes with raspberry whipped cream
URL:https://www.thesanfordhouse.com/event/rewa-wine-dinner/
LOCATION:Restaurant506 at the Sanford House\, 506 N Center St\, Arlington\, TX\, 76011
END:VEVENT
BEGIN:VEVENT
DTSTART;TZID=America/Chicago:20260508T190000
DTEND;TZID=America/Chicago:20260508T210000
DTSTAMP:20260420T110224
CREATED:20260414T184529Z
LAST-MODIFIED:20260414T184643Z
UID:4881-1778266800-1778274000@www.thesanfordhouse.com
SUMMARY:Sanford Spotlight – Shaken Not Stirred
DESCRIPTION:Friday\, May 8th\, 2026\nfrom 7-9 pm\n$20.00 – Buy Tickets \nShaken Not Stirred\nOpen seating: first come first serve\ncash bar + food available for purchase \nJoin us in the restaurant and bar beforehand for dinner or enjoy our Spotlight Courtyard Menu available during the show!  \n*Dinner at 506 does not include a ticket to the Sanford Spotlight
URL:https://www.thesanfordhouse.com/event/sanford-spotlight-shaken-not-stirred/
LOCATION:Restaurant506 at the Sanford House\, 506 N Center St\, Arlington\, TX\, 76011
END:VEVENT
END:VCALENDAR